BEGIN:VCALENDAR
VERSION:2.0
PRODID:-//Trinity Trails - ECPv5.12.4//NONSGML v1.0//EN
CALSCALE:GREGORIAN
METHOD:PUBLISH
X-WR-CALNAME:Trinity Trails
X-ORIGINAL-URL:https://trinitytrailsfw.com
X-WR-CALDESC:Events for Trinity Trails
BEGIN:VTIMEZONE
TZID:America/Chicago
BEGIN:DAYLIGHT
TZOFFSETFROM:-0600
TZOFFSETTO:-0500
TZNAME:CDT
DTSTART:20210314T080000
END:DAYLIGHT
BEGIN:STANDARD
TZOFFSETFROM:-0500
TZOFFSETTO:-0600
TZNAME:CST
DTSTART:20211107T070000
END:STANDARD
END:VTIMEZONE
BEGIN:VEVENT
DTSTART;TZID=America/Chicago:20210102T073000
DTEND;TZID=America/Chicago:20210102T120000
DTSTAMP:20260422T113727
CREATED:20210103T202452Z
LAST-MODIFIED:20210103T202517Z
UID:16106-1609572600-1609588800@trinitytrailsfw.com
SUMMARY:2021 CRC NEW YEAR'S RUN
DESCRIPTION:The Cox Running Club is ending our 2020 Holiday Series with the 2021 New Year’s Race!  \nCome join us on January 2nd to see old friends and make new ones. Runners and race walkers from all over the community are welcome to come out and participate in the Cox Running Club events. Come on out and bring your family and friends to run\, walk\, and enjoy our entertainment. Come to run and stay for the fun! \nAll finishers of the 10K & 5K and Half Marathon will receive Custom Finishers Medals.  Race shirts are Unisex Technical Fabric.   Register by December 27th to guarantee your shirt and for a personalized bib. \nDisclaimer: Events not produced by TRWD or the City of Fort Worth have been approved and issued a permit\, which allows the use of the Trinity Trails\, City of Fort Worth Parks and other TRWD assets as denoted in their permit. These events are not affiliated with TRWD or the City of Fort Worth\, nor do they express the views or mission of the district or City of Fort Worth. This calendar is meant to be a community resource for upcoming events and general trail traffic awareness and is subject to change.
URL:https://trinitytrailsfw.com/event/2021-crc-new-years-run/
LOCATION:Woodshed Smokehouse\, 3301 Trinity Park Dr\, Fort Worth\, TX\, 76107\, United States
CATEGORIES:Trinity Trails
ATTACH;FMTTYPE=image/png:https://trinitytrailsfw.com/wp-content/uploads/2021/01/CRC-NY-Run-Logo.png
ORGANIZER;CN="Cox%20Running%20Club":MAILTO:coxrunningclub@gmail.com
END:VEVENT
END:VCALENDAR