BEGIN:VCALENDAR
VERSION:2.0
PRODID:-//Trinity Trails - ECPv5.12.4//NONSGML v1.0//EN
CALSCALE:GREGORIAN
METHOD:PUBLISH
X-WR-CALNAME:Trinity Trails
X-ORIGINAL-URL:https://trinitytrailsfw.com
X-WR-CALDESC:Events for Trinity Trails
BEGIN:VTIMEZONE
TZID:America/Chicago
BEGIN:DAYLIGHT
TZOFFSETFROM:-0600
TZOFFSETTO:-0500
TZNAME:CDT
DTSTART:20210314T080000
END:DAYLIGHT
BEGIN:STANDARD
TZOFFSETFROM:-0500
TZOFFSETTO:-0600
TZNAME:CST
DTSTART:20211107T070000
END:STANDARD
END:VTIMEZONE
BEGIN:VEVENT
DTSTART;TZID=America/Chicago:20210814T080000
DTEND;TZID=America/Chicago:20210814T220000
DTSTAMP:20260422T115326
CREATED:20210527T174715Z
LAST-MODIFIED:20210527T174715Z
UID:16648-1628928000-1628978400@trinitytrailsfw.com
SUMMARY:CAR SEATS FOR COWTOWN
DESCRIPTION:Fort Worth Cops for Kids is raising funds and donations of car seats for the citizens within the Fort Worth community. The event kicks off with a 5K in the morning and continues with live music and family fun throughout the day. \nDisclaimer: Events not produced by TRWD or the City of Fort Worth have been approved and issued a permit\, which allows the use of the Trinity Trails\, City of Fort Worth Parks and other TRWD assets as denoted in their permit. These events are not affiliated with TRWD or the City of Fort Worth\, nor do they express the views or mission of the district or City of Fort Worth. This calendar is meant to be a community resource for upcoming events and general trail traffic awareness and is subject to change. \n 
URL:https://trinitytrailsfw.com/event/car-seats-for-cowtown/
LOCATION:Panther Island Pavilion\, 395 Purcey St\, Fort Worth\, TX\, 76201\, United States
CATEGORIES:Panther Island Pavilion
ATTACH;FMTTYPE=image/jpeg:https://trinitytrailsfw.com/wp-content/uploads/2021/05/Graphic.jpg
END:VEVENT
END:VCALENDAR