BEGIN:VCALENDAR
VERSION:2.0
PRODID:-//Trinity Trails - ECPv5.12.4//NONSGML v1.0//EN
CALSCALE:GREGORIAN
METHOD:PUBLISH
X-WR-CALNAME:Trinity Trails
X-ORIGINAL-URL:https://trinitytrailsfw.com
X-WR-CALDESC:Events for Trinity Trails
BEGIN:VTIMEZONE
TZID:America/Chicago
BEGIN:DAYLIGHT
TZOFFSETFROM:-0600
TZOFFSETTO:-0500
TZNAME:CDT
DTSTART:20210314T080000
END:DAYLIGHT
BEGIN:STANDARD
TZOFFSETFROM:-0500
TZOFFSETTO:-0600
TZNAME:CST
DTSTART:20211107T070000
END:STANDARD
END:VTIMEZONE
BEGIN:VEVENT
DTSTART;TZID=America/Chicago:20210612T070000
DTEND;TZID=America/Chicago:20210612T110000
DTSTAMP:20260422T133022
CREATED:20210503T170005Z
LAST-MODIFIED:20210503T170005Z
UID:16501-1623481200-1623495600@trinitytrailsfw.com
SUMMARY:COX RACING SERVICES SUMMER SIZZLER 5K & 10K
DESCRIPTION:WHEN & WHERE\nSaturday\, June 12\, 2021\nMartin House Brewing Company\n220 S Sylvania Ave #209\nFort Worth\, TX 76111\nSTARTING TIMES\n6:30 AM – Packet Pickup and Race Day Registration\n8:00 AM – 5K Run/Walk (3.1 miles)\n8:00 AM – 10K Run/Walk (6.2 miles)\nCOST (All Cox Running Club Members Receive $5 Off Each Registration – Please Contact Us for Coupon Code – sign up at coxrunningclub.athlete360.com if you’d like to become member)\n5K Run/Walk (Registered By (May 16\, 2021): $30\n5K Run/Walk (Registered by June 11\, 2021): $35\n5K Run/Walk (Race Day): $40\n10K Run/Walk (Registered By (May 16\, 2021): $35\n10K Run/Walk (Registered by June 11\, 2021): $40\n10K Run/Walk (Race Day): $45\nMust be pre-registered by June 9th to be guaranteed a Shirt. All remaining shirts will be given out after the start of the race on a first-come first-served basis.\n\n\nDisclaimer: Events not produced by TRWD or the City of Fort Worth have been approved and issued a permit\, which allows the use of the Trinity Trails\, City of Fort Worth Parks and other TRWD assets as denoted in their permit. These events are not affiliated with TRWD or the City of Fort Worth\, nor do they express the views or mission of the district or City of Fort Worth. This calendar is meant to be a community resource for upcoming events and general trail traffic awareness and is subject to change.
URL:https://trinitytrailsfw.com/event/cox-racing-services-summer-sizzler-5k-10k/
LOCATION:Martin House Brewery\, 220 S Sylvania Ave #209\, Fort Worth\, TX\, 76111\, United States
CATEGORIES:Trinity Trails
ATTACH;FMTTYPE=image/jpeg:https://trinitytrailsfw.com/wp-content/uploads/2021/05/Summer-Sizzler-Graphic.jpg
ORGANIZER;CN="Cox%20Running%20Club":MAILTO:coxrunningclub@gmail.com
END:VEVENT
END:VCALENDAR