BEGIN:VCALENDAR
VERSION:2.0
PRODID:-//Trinity Trails - ECPv5.12.4//NONSGML v1.0//EN
CALSCALE:GREGORIAN
METHOD:PUBLISH
X-WR-CALNAME:Trinity Trails
X-ORIGINAL-URL:https://trinitytrailsfw.com
X-WR-CALDESC:Events for Trinity Trails
BEGIN:VTIMEZONE
TZID:America/Chicago
BEGIN:DAYLIGHT
TZOFFSETFROM:-0600
TZOFFSETTO:-0500
TZNAME:CDT
DTSTART:20210314T080000
END:DAYLIGHT
BEGIN:STANDARD
TZOFFSETFROM:-0500
TZOFFSETTO:-0600
TZNAME:CST
DTSTART:20211107T070000
END:STANDARD
END:VTIMEZONE
BEGIN:VEVENT
DTSTART;VALUE=DATE:20210112
DTEND;VALUE=DATE:20210113
DTSTAMP:20260422T074744
CREATED:20201124T183912Z
LAST-MODIFIED:20201124T183912Z
UID:16008-1610409600-1610495999@trinitytrailsfw.com
SUMMARY:Fish-The-Fort
DESCRIPTION:TRWD Trout Season returns for its 34th year\, starting on December 10\, 2020 through March 13\, 2021\nGrab a pole and rediscover your backyard! Since 1986 the community has settled on the banks of the Trinity River eagerly awaiting the release of trout for the opportunity to catch the novel fish. Join us all season long.\n  \nTPWD schedule and information on their trout stockings.\nhttps://tpwd.texas.gov/fishboat/fish/management/stocking/trout_stocking.phtml
URL:https://trinitytrailsfw.com/event/fish-the-fort-4/
LOCATION:River Park\, 3100 Bryant Irvin Rd.\, Fort Worth\, TX\, 76109
CATEGORIES:Trinity Trails
ATTACH;FMTTYPE=image/jpeg:https://trinitytrailsfw.com/wp-content/uploads/2020/11/River-Park-Fishing3.jpeg
END:VEVENT
END:VCALENDAR