BEGIN:VCALENDAR
VERSION:2.0
PRODID:-//Trinity Trails - ECPv5.12.4//NONSGML v1.0//EN
CALSCALE:GREGORIAN
METHOD:PUBLISH
X-WR-CALNAME:Trinity Trails
X-ORIGINAL-URL:https://trinitytrailsfw.com
X-WR-CALDESC:Events for Trinity Trails
BEGIN:VTIMEZONE
TZID:America/Chicago
BEGIN:DAYLIGHT
TZOFFSETFROM:-0600
TZOFFSETTO:-0500
TZNAME:CDT
DTSTART:20200308T080000
END:DAYLIGHT
BEGIN:STANDARD
TZOFFSETFROM:-0500
TZOFFSETTO:-0600
TZNAME:CST
DTSTART:20201101T070000
END:STANDARD
END:VTIMEZONE
BEGIN:VEVENT
DTSTART;TZID=America/Chicago:20200704T140000
DTEND;TZID=America/Chicago:20200704T223000
DTSTAMP:20260422T132632
CREATED:20200109T205212Z
LAST-MODIFIED:20200622T181323Z
UID:15072-1593871200-1593901800@trinitytrailsfw.com
SUMMARY:FORT WORTH'S FOURTH
DESCRIPTION:For the health and safety of the community\, this year’s annual Fort Worth’s Fourth celebration has been modified. Fort Worth will still be home to the largest fireworks show in North Texas; however\, the festival portion of the event is canceled.  Thanks to generous contributions from Lockheed Martin and TRWD\, the fireworks show will be bigger and brighter so you can see from a distance. Watch the show from anywhere as it will be live-streamed at fox4news.com and tune into 95.9 The Ranch for the music. \nPanther Island Pavilion will be closed and there will be no activities. For more information visit www.fortworthsfourth.com
URL:https://trinitytrailsfw.com/event/fort-worths-fourth/
LOCATION:Panther Island Pavilion\, 395 Purcey St\, Fort Worth\, TX\, 76201\, United States
CATEGORIES:Trinity Trails
ATTACH;FMTTYPE=image/jpeg:https://trinitytrailsfw.com/wp-content/uploads/2020/01/FW4-Fireworks.jpg
END:VEVENT
END:VCALENDAR