BEGIN:VCALENDAR
VERSION:2.0
PRODID:-//Trinity Trails - ECPv5.12.4//NONSGML v1.0//EN
CALSCALE:GREGORIAN
METHOD:PUBLISH
X-WR-CALNAME:Trinity Trails
X-ORIGINAL-URL:https://trinitytrailsfw.com
X-WR-CALDESC:Events for Trinity Trails
BEGIN:VTIMEZONE
TZID:America/Chicago
BEGIN:DAYLIGHT
TZOFFSETFROM:-0600
TZOFFSETTO:-0500
TZNAME:CDT
DTSTART:20210314T080000
END:DAYLIGHT
BEGIN:STANDARD
TZOFFSETFROM:-0500
TZOFFSETTO:-0600
TZNAME:CST
DTSTART:20211107T070000
END:STANDARD
END:VTIMEZONE
BEGIN:VEVENT
DTSTART;TZID=America/Chicago:20210612T050000
DTEND;TZID=America/Chicago:20210612T120000
DTSTAMP:20260422T170342
CREATED:20210521T171729Z
LAST-MODIFIED:20210521T171729Z
UID:16615-1623474000-1623499200@trinitytrailsfw.com
SUMMARY:MARINE CREEK KAYAK FISHING CHALLENGE
DESCRIPTION:Tournament is open to all participants of all ages. Participants must register at www.blastandcast.org and sign a liability waiver at check in to be eligible.\nParticipants must have a valid Texas freshwater fishing license.  Participants must wear a life vest at all times.\nKayak fishing only. Participants may utilize electric trolling motors. No gas-powered motors allowed.\nThe officially recognized measuring devices are Hawg Troughs and Ketch Boards.\n\n\nDisclaimer: Events not produced by TRWD or the City of Fort Worth have been approved and issued a permit\, which allows the use of the Trinity Trails\, City of Fort Worth Parks and other TRWD assets as denoted in their permit. These events are not affiliated with TRWD or the City of Fort Worth\, nor do they express the views or mission of the district or City of Fort Worth. This calendar is meant to be a community resource for upcoming events and general trail traffic awareness and is subject to change.
URL:https://trinitytrailsfw.com/event/marine-creek-kayak-fishing-challenge/
LOCATION:Marine Creek Lake\, 2700 NW Loop 820\, Fort Worth\, 76179
CATEGORIES:Marine Creek
ATTACH;FMTTYPE=image/jpeg:https://trinitytrailsfw.com/wp-content/uploads/2021/05/Blast-and-Cast.jpg
END:VEVENT
END:VCALENDAR