BEGIN:VCALENDAR
VERSION:2.0
PRODID:-//Trinity Trails - ECPv5.12.4//NONSGML v1.0//EN
CALSCALE:GREGORIAN
METHOD:PUBLISH
X-WR-CALNAME:Trinity Trails
X-ORIGINAL-URL:https://trinitytrailsfw.com
X-WR-CALDESC:Events for Trinity Trails
BEGIN:VTIMEZONE
TZID:America/Chicago
BEGIN:DAYLIGHT
TZOFFSETFROM:-0600
TZOFFSETTO:-0500
TZNAME:CDT
DTSTART:20200308T080000
END:DAYLIGHT
BEGIN:STANDARD
TZOFFSETFROM:-0500
TZOFFSETTO:-0600
TZNAME:CST
DTSTART:20201101T070000
END:STANDARD
END:VTIMEZONE
BEGIN:VEVENT
DTSTART;TZID=America/Chicago:20201120T080000
DTEND;TZID=America/Chicago:20201120T170000
DTSTAMP:20260422T134353
CREATED:20201111T031414Z
LAST-MODIFIED:20201111T031414Z
UID:15882-1605859200-1605891600@trinitytrailsfw.com
SUMMARY:Panther Island Ice
DESCRIPTION:Panther Island Ice returns this holiday season. Fort Worth’s outdoor ice skating rink will operate seven days a week at Coyote Drive-In from November 20 through January 18 including all holidays! The rink is real ice located mostly under a large pavilion. This year all tickets must be purchased online with an advanced reservation to minimize in-person contact. Ice skate and enjoy Coyote’s other amenities including covered seating\, gas heaters and a full menu with beer and wine options. For more information and to purchase your advanced tickets visit pantherislandice.com. A movie ticket is not required to skate.
URL:https://trinitytrailsfw.com/event/panther-island-ice/2020-11-20/
LOCATION:Coyote Drive In
ATTACH;FMTTYPE=image/jpeg:https://trinitytrailsfw.com/wp-content/uploads/2020/11/2018-12-9-Panther-Island-6.jpg
END:VEVENT
END:VCALENDAR