BEGIN:VCALENDAR
VERSION:2.0
PRODID:-//Trinity Trails - ECPv5.12.4//NONSGML v1.0//EN
CALSCALE:GREGORIAN
METHOD:PUBLISH
X-WR-CALNAME:Trinity Trails
X-ORIGINAL-URL:https://trinitytrailsfw.com
X-WR-CALDESC:Events for Trinity Trails
BEGIN:VTIMEZONE
TZID:America/Chicago
BEGIN:DAYLIGHT
TZOFFSETFROM:-0600
TZOFFSETTO:-0500
TZNAME:CDT
DTSTART:20210314T080000
END:DAYLIGHT
BEGIN:STANDARD
TZOFFSETFROM:-0500
TZOFFSETTO:-0600
TZNAME:CST
DTSTART:20211107T070000
END:STANDARD
END:VTIMEZONE
BEGIN:VEVENT
DTSTART;TZID=America/Chicago:20210523T070000
DTEND;TZID=America/Chicago:20210523T110000
DTSTAMP:20260424T112451
CREATED:20210412T174747Z
LAST-MODIFIED:20210412T174747Z
UID:16462-1621753200-1621767600@trinitytrailsfw.com
SUMMARY:PLAYTRI FORT WORTH
DESCRIPTION:This World Qualifier provides an opportunity for top age-group athletes who had hoped to punch their tickets to Worlds at the 2020 Toyota USA Triathlon Age Group Olympic-Distance National Championships in Milwaukee\, which were canceled due to COVID-19. In addition\, athletes who had previously qualified for the canceled 2020 Age Group Standard World Triathlon Championships in Edmonton were given the option to roll their qualification over to 2021. More details about the qualification process can be found at usatriathlon.org/teamusa. \n  \nDisclaimer: Events not produced by TRWD or the City of Fort Worth have been approved and issued a permit\, which allows the use of the Trinity Trails\, City of Fort Worth Parks and other TRWD assets as denoted in their permit. These events are not affiliated with TRWD or the City of Fort Worth\, nor do they express the views or mission of the district or City of Fort Worth. This calendar is meant to be a community resource for upcoming events and general trail traffic awareness and is subject to change.
URL:https://trinitytrailsfw.com/event/playtri-fort-worth/
LOCATION:Marine Creek Lake\, 2700 NW Loop 820\, Fort Worth\, 76179
CATEGORIES:Marine Creek
ATTACH;FMTTYPE=image/jpeg:https://trinitytrailsfw.com/wp-content/uploads/2021/04/FWTridoublefinishersticker.jpg
END:VEVENT
END:VCALENDAR