BEGIN:VCALENDAR
VERSION:2.0
PRODID:-//Trinity Trails - ECPv5.12.4//NONSGML v1.0//EN
CALSCALE:GREGORIAN
METHOD:PUBLISH
X-WR-CALNAME:Trinity Trails
X-ORIGINAL-URL:https://trinitytrailsfw.com
X-WR-CALDESC:Events for Trinity Trails
BEGIN:VTIMEZONE
TZID:America/Chicago
BEGIN:DAYLIGHT
TZOFFSETFROM:-0600
TZOFFSETTO:-0500
TZNAME:CDT
DTSTART:20200308T080000
END:DAYLIGHT
BEGIN:STANDARD
TZOFFSETFROM:-0500
TZOFFSETTO:-0600
TZNAME:CST
DTSTART:20201101T070000
END:STANDARD
END:VTIMEZONE
BEGIN:VEVENT
DTSTART;TZID=America/Chicago:20201121T063000
DTEND;TZID=America/Chicago:20201121T133000
DTSTAMP:20260422T115220
CREATED:20200212T202156Z
LAST-MODIFIED:20201102T172858Z
UID:15211-1605940200-1605965400@trinitytrailsfw.com
SUMMARY:PUMPKIN SPICE 5K\, 10K & HALF MARATHON - VIRTUAL
DESCRIPTION:The in-person race is full but you can still participate in the most festive fall 5K\, 10K & Half Marathon of the season\, virtually! Register today to participate in the virtual Pumpkin Spice run! \nDisclaimer: Events not produced by TRWD or the City of Fort Worth have been approved and issued a permit\, which allows the use of the Trinity Trails\, City of Fort Worth Parks and other TRWD assets as denoted in their permit. These events are not affiliated with TRWD or the City of Fort Worth\, nor do they express the views or mission of the district or City of Fort Worth. This calendar is meant to be a community resource for upcoming events and general trail traffic awareness and is subject to change.
URL:https://trinitytrailsfw.com/event/pumpkin-spice-5k-10k-half-marathon-2/
LOCATION:Panther Island Pavilion\, 395 Purcey St\, Fort Worth\, TX\, 76201\, United States
ATTACH;FMTTYPE=image/png:https://trinitytrailsfw.com/wp-content/uploads/2020/02/PS-Banner-800x800-1.png
END:VEVENT
END:VCALENDAR