BEGIN:VCALENDAR
VERSION:2.0
PRODID:-//Trinity Trails - ECPv5.12.4//NONSGML v1.0//EN
CALSCALE:GREGORIAN
METHOD:PUBLISH
X-WR-CALNAME:Trinity Trails
X-ORIGINAL-URL:https://trinitytrailsfw.com
X-WR-CALDESC:Events for Trinity Trails
BEGIN:VTIMEZONE
TZID:America/Chicago
BEGIN:DAYLIGHT
TZOFFSETFROM:-0600
TZOFFSETTO:-0500
TZNAME:CDT
DTSTART:20210314T080000
END:DAYLIGHT
BEGIN:STANDARD
TZOFFSETFROM:-0500
TZOFFSETTO:-0600
TZNAME:CST
DTSTART:20211107T070000
END:STANDARD
END:VTIMEZONE
BEGIN:VEVENT
DTSTART;TZID=America/Chicago:20210926T073000
DTEND;TZID=America/Chicago:20210926T113000
DTSTAMP:20260423T232945
CREATED:20210610T190832Z
LAST-MODIFIED:20210610T190832Z
UID:16689-1632641400-1632655800@trinitytrailsfw.com
SUMMARY:RUN FOR AORTIC HEALTH
DESCRIPTION:Join us for this flat and easy run for a great cause! Many know little about the AORTA\, so come out\, have some fun\, learn something new\, and support the mission of saving lives from aortic disease! There will be finisher medals for all\, age group awards\, raffles\, vendors and a great time at this chip timed event!\nIf you don’t live in Texas\, you can still join us by registering as a virtual runner! \n  \nDisclaimer: Events not produced by TRWD or the City of Fort Worth have been approved and issued a permit\, which allows the use of the Trinity Trails\, City of Fort Worth Parks and other TRWD assets as denoted in their permit. These events are not affiliated with TRWD or the City of Fort Worth\, nor do they express the views or mission of the district or City of Fort Worth. This calendar is meant to be a community resource for upcoming events and general trail traffic awareness and is subject to change.
URL:https://trinitytrailsfw.com/event/run-for-aortic-health/
LOCATION:Trinity Park\, 2401 University Dr.\, Fort Worth\, TX\, 76107
CATEGORIES:Trinity Trails
ATTACH;FMTTYPE=image/jpeg:https://trinitytrailsfw.com/wp-content/uploads/2021/06/FB-Image.jpg
END:VEVENT
END:VCALENDAR