BEGIN:VCALENDAR
VERSION:2.0
PRODID:-//Trinity Trails - ECPv5.12.4//NONSGML v1.0//EN
CALSCALE:GREGORIAN
METHOD:PUBLISH
X-WR-CALNAME:Trinity Trails
X-ORIGINAL-URL:https://trinitytrailsfw.com
X-WR-CALDESC:Events for Trinity Trails
BEGIN:VTIMEZONE
TZID:America/Chicago
BEGIN:DAYLIGHT
TZOFFSETFROM:-0600
TZOFFSETTO:-0500
TZNAME:CDT
DTSTART:20210314T080000
END:DAYLIGHT
BEGIN:STANDARD
TZOFFSETFROM:-0500
TZOFFSETTO:-0600
TZNAME:CST
DTSTART:20211107T070000
END:STANDARD
END:VTIMEZONE
BEGIN:VEVENT
DTSTART;TZID=America/Chicago:20210925T080000
DTEND;TZID=America/Chicago:20210925T170000
DTSTAMP:20260424T010858
CREATED:20210820T152532Z
LAST-MODIFIED:20210820T152532Z
UID:16782-1632556800-1632589200@trinitytrailsfw.com
SUMMARY:STEERHEAD REGATTA
DESCRIPTION:The Steerhead Regatta is an annual “Head Type” rowing regatta hosted by the Fort Worth Rowing Club and held on the Trinity River from  the 4th St Bridge area to the Beach Street Bridge.   A “Head” race is one in which the boat/crew rows against the clock and is compared to the other boats/crews in their event to determine the winners.   Teams from across the local area (Dallas\, Austin\, Houston\, The Woodlands\, Oklahoma City\, San Antonio) are expected to compete.   The event is being held in accordance with US Rowing rules\, regulations\, and standards. \nFind us on Facebook!
URL:https://trinitytrailsfw.com/event/steerhead-regatta/
CATEGORIES:Trinity River Fort Worth
ATTACH;FMTTYPE=image/jpeg:https://trinitytrailsfw.com/wp-content/uploads/2021/08/FWRC-Image.jpg
END:VEVENT
END:VCALENDAR