BEGIN:VCALENDAR
VERSION:2.0
PRODID:-//Trinity Trails - ECPv5.12.4//NONSGML v1.0//EN
CALSCALE:GREGORIAN
METHOD:PUBLISH
X-WR-CALNAME:Trinity Trails
X-ORIGINAL-URL:https://trinitytrailsfw.com
X-WR-CALDESC:Events for Trinity Trails
BEGIN:VTIMEZONE
TZID:America/Chicago
BEGIN:DAYLIGHT
TZOFFSETFROM:-0600
TZOFFSETTO:-0500
TZNAME:CDT
DTSTART:20220313T080000
END:DAYLIGHT
BEGIN:STANDARD
TZOFFSETFROM:-0500
TZOFFSETTO:-0600
TZNAME:CST
DTSTART:20221106T070000
END:STANDARD
END:VTIMEZONE
BEGIN:VEVENT
DTSTART;TZID=America/Chicago:20221105T070000
DTEND;TZID=America/Chicago:20221105T110000
DTSTAMP:20260422T180543
CREATED:20221102T201613Z
LAST-MODIFIED:20221102T201640Z
UID:17112-1667631600-1667646000@trinitytrailsfw.com
SUMMARY:Susan G Komen 3 Day Walk
DESCRIPTION:3 DAYS – It’s a 60 mile walk over the course of 3 days. We stay together as a community on Friday and Saturday nights in a local hotel. It includes meals\, a 3- Day lounge\, massage chairs and more! \n60 MILES – The route is fully supported by an experienced and energetic crew who will keep you safe and cheer you to the finish line! Bring your favorite water bottle (we have plenty stations to refill it all weekend long!)\, your walking shoes\, and an open heart. \n$2\,300 – You’ll raise $2\,300 to help end breast cancer. It may be hard\, but it’s not as hard as breast cancer. We’ll match your commitment by taking care of your food and sleeping arrangements over the course of the weekend. Now’s the time to step up and commit to this challenge- for this mission\, for those you love and for yourself\, You can do it and we are here to help. \nFor more information\, please visit the event website.
URL:https://trinitytrailsfw.com/event/susan-g-komen-3-day-walk/
LOCATION:Trinity Trails
CATEGORIES:Trinity Trails
ATTACH;FMTTYPE=image/jpeg:https://trinitytrailsfw.com/wp-content/uploads/2022/11/SGK_3Day_Logo.jpg
END:VEVENT
END:VCALENDAR