BEGIN:VCALENDAR
VERSION:2.0
PRODID:-//Trinity Trails - ECPv5.12.4//NONSGML v1.0//EN
CALSCALE:GREGORIAN
METHOD:PUBLISH
X-WR-CALNAME:Trinity Trails
X-ORIGINAL-URL:https://trinitytrailsfw.com
X-WR-CALDESC:Events for Trinity Trails
BEGIN:VTIMEZONE
TZID:America/Chicago
BEGIN:DAYLIGHT
TZOFFSETFROM:-0600
TZOFFSETTO:-0500
TZNAME:CDT
DTSTART:20200308T080000
END:DAYLIGHT
BEGIN:STANDARD
TZOFFSETFROM:-0500
TZOFFSETTO:-0600
TZNAME:CST
DTSTART:20201101T070000
END:STANDARD
END:VTIMEZONE
BEGIN:VEVENT
DTSTART;TZID=America/Chicago:20201024T100000
DTEND;TZID=America/Chicago:20201024T130000
DTSTAMP:20260422T151112
CREATED:20200911T155458Z
LAST-MODIFIED:20200911T155458Z
UID:15728-1603533600-1603544400@trinitytrailsfw.com
SUMMARY:THE RUFFOLUTION
DESCRIPTION:Enjoy the Trinity Trails at Waterside with your furry friend. Join us on a two mile walk supporting the NAWIC Forth Worth Chapter Foundation\, which provides scholarships to students in construction related degree programs. \n  \nDisclaimer: Events not produced by TRWD or the City of Fort Worth have been approved and issued a permit\, which allows the use of the Trinity Trails\, City of Fort Worth Parks and other TRWD assets as denoted in their permit. These events are not affiliated with TRWD or the City of Fort Worth\, nor do they express the views or mission of the district or City of Fort Worth. This calendar is meant to be a community resource for upcoming events and general trail traffic awareness and is subject to change.
URL:https://trinitytrailsfw.com/event/the-ruffolution-2/
LOCATION:Waterside\, 3720 Convair Dr.\, Fort Worth\, 76109\, United States
CATEGORIES:Trinity Trails
ATTACH;FMTTYPE=image/jpeg:https://trinitytrailsfw.com/wp-content/uploads/2019/09/logo_1.jpg
END:VEVENT
END:VCALENDAR