BEGIN:VCALENDAR
VERSION:2.0
PRODID:-//Trinity Trails - ECPv5.12.4//NONSGML v1.0//EN
CALSCALE:GREGORIAN
METHOD:PUBLISH
X-WR-CALNAME:Trinity Trails
X-ORIGINAL-URL:https://trinitytrailsfw.com
X-WR-CALDESC:Events for Trinity Trails
BEGIN:VTIMEZONE
TZID:America/Chicago
BEGIN:DAYLIGHT
TZOFFSETFROM:-0600
TZOFFSETTO:-0500
TZNAME:CDT
DTSTART:20220313T080000
END:DAYLIGHT
BEGIN:STANDARD
TZOFFSETFROM:-0500
TZOFFSETTO:-0600
TZNAME:CST
DTSTART:20221106T070000
END:STANDARD
END:VTIMEZONE
BEGIN:VEVENT
DTSTART;TZID=America/Chicago:20220226T080000
DTEND;TZID=America/Chicago:20220226T110000
DTSTAMP:20260423T163805
CREATED:20220201T183843Z
LAST-MODIFIED:20220201T184513Z
UID:16874-1645862400-1645873200@trinitytrailsfw.com
SUMMARY:Cowtown Marathon Race Event
DESCRIPTION:The Cowtown Marathon is back to our old ways\, and our annual event will once again take place on the last weekend of February. (February 25th – 27th\, 2022). The 2022 Cowtown will include all the In-Person events: Kids 5K presented by Academy Sports + Outdoors\, Adults 5K\, 10K\, Half Marathon\, Healthy Hig Relay\, Full Marathon\, and Ultra Marathon presented by Miller Lite. All events will also be available as virtual runs.
URL:https://trinitytrailsfw.com/event/cowtown-marathon-race-event/2022-02-26/
LOCATION:Will Rogers Memorial Center\, 3401 W Lancaster Ave\, Fort worth\, TX\, 76107
CATEGORIES:Trinity Trails
ATTACH;FMTTYPE=image/png:https://trinitytrailsfw.com/wp-content/uploads/2022/02/cowtown-marathon.png
END:VEVENT
END:VCALENDAR