BEGIN:VCALENDAR
VERSION:2.0
PRODID:-//Trinity Trails - ECPv5.12.4//NONSGML v1.0//EN
CALSCALE:GREGORIAN
METHOD:PUBLISH
X-WR-CALNAME:Trinity Trails
X-ORIGINAL-URL:https://trinitytrailsfw.com
X-WR-CALDESC:Events for Trinity Trails
BEGIN:VTIMEZONE
TZID:America/Chicago
BEGIN:DAYLIGHT
TZOFFSETFROM:-0600
TZOFFSETTO:-0500
TZNAME:CDT
DTSTART:20220313T080000
END:DAYLIGHT
BEGIN:STANDARD
TZOFFSETFROM:-0500
TZOFFSETTO:-0600
TZNAME:CST
DTSTART:20221106T070000
END:STANDARD
END:VTIMEZONE
BEGIN:VEVENT
DTSTART;TZID=America/Chicago:20220312T090000
DTEND;TZID=America/Chicago:20220312T103000
DTSTAMP:20260423T150416
CREATED:20220215T215015Z
LAST-MODIFIED:20220303T194411Z
UID:16896-1647075600-1647081000@trinitytrailsfw.com
SUMMARY:Spring Sprint
DESCRIPTION:Like Running or Walking? How about the warmer weather? Then we have an event for you… the Spring Sprint\, the second chapter of our Seasons Series! \nJoin us for an exciting new event that features the amazing scenery and landscape of Trinity Trails!  Whether you are looking to run\, walk or just enjoy the race SWAG this race is a sure thing for a great time and an incredible experience!  This race is timed and scored by Bodies Race Company.  Results will be posted at gorunkc.com. \nRegistration includes a race t-shirt and finishers medal. Make sure to check out our add-on items! \nAge Group Awards: The top three males and females in each age group will win an award. Check-in and collect at the race after you finish!
URL:https://trinitytrailsfw.com/event/spring-sprint/
LOCATION:Panther Island Pavilion\, 395 Purcey St\, Fort Worth\, TX\, 76201\, United States
CATEGORIES:Trinity Trails
ATTACH;FMTTYPE=image/png:https://trinitytrailsfw.com/wp-content/uploads/2022/02/Screenshot-2022-02-15-154747.png
END:VEVENT
END:VCALENDAR