BEGIN:VCALENDAR
VERSION:2.0
PRODID:-//Trinity Trails - ECPv5.12.4//NONSGML v1.0//EN
CALSCALE:GREGORIAN
METHOD:PUBLISH
X-WR-CALNAME:Trinity Trails
X-ORIGINAL-URL:https://trinitytrailsfw.com
X-WR-CALDESC:Events for Trinity Trails
BEGIN:VTIMEZONE
TZID:America/Chicago
BEGIN:DAYLIGHT
TZOFFSETFROM:-0600
TZOFFSETTO:-0500
TZNAME:CDT
DTSTART:20220313T080000
END:DAYLIGHT
BEGIN:STANDARD
TZOFFSETFROM:-0500
TZOFFSETTO:-0600
TZNAME:CST
DTSTART:20221106T070000
END:STANDARD
END:VTIMEZONE
BEGIN:VEVENT
DTSTART;TZID=America/Chicago:20220907T183000
DTEND;TZID=America/Chicago:20220907T203000
DTSTAMP:20260423T120144
CREATED:20220824T172936Z
LAST-MODIFIED:20220824T173011Z
UID:17053-1662575400-1662582600@trinitytrailsfw.com
SUMMARY:MELT 5K Party Run
DESCRIPTION:Melt ice creams will host a 5K community run to raise awareness and funds for the Birthday Party Project\, a nonprofit that celebrates the joy of a birthday for children experiencing homelessness in shelters across the metroplex.
URL:https://trinitytrailsfw.com/event/melt-5k-party-run/
LOCATION:Martin House Brewery\, 220 S Sylvania Ave #209\, Fort Worth\, TX\, 76111\, United States
CATEGORIES:Trinity Trails
ATTACH;FMTTYPE=image/jpeg:https://trinitytrailsfw.com/wp-content/uploads/2022/08/download.jpg
END:VEVENT
END:VCALENDAR