BEGIN:VCALENDAR
VERSION:2.0
PRODID:-//Trinity Trails - ECPv5.12.4//NONSGML v1.0//EN
CALSCALE:GREGORIAN
METHOD:PUBLISH
X-WR-CALNAME:Trinity Trails
X-ORIGINAL-URL:https://trinitytrailsfw.com
X-WR-CALDESC:Events for Trinity Trails
BEGIN:VTIMEZONE
TZID:America/Chicago
BEGIN:DAYLIGHT
TZOFFSETFROM:-0600
TZOFFSETTO:-0500
TZNAME:CDT
DTSTART:20220313T080000
END:DAYLIGHT
BEGIN:STANDARD
TZOFFSETFROM:-0500
TZOFFSETTO:-0600
TZNAME:CST
DTSTART:20221106T070000
END:STANDARD
END:VTIMEZONE
BEGIN:VEVENT
DTSTART;TZID=America/Chicago:20220918T073000
DTEND;TZID=America/Chicago:20220918T093000
DTSTAMP:20260423T115412
CREATED:20220809T210746Z
LAST-MODIFIED:20220809T210746Z
UID:17048-1663486200-1663493400@trinitytrailsfw.com
SUMMARY:Run for Aortic Health
DESCRIPTION:Join us on Sunday\, September 18\, 2022 for our 6th Annual 5K/10K race! Free kids Fun Run just before the race\, 5K/10K finisher medals\, awards\, and a fun time with friends! Help us spread awareness and promote research for Aortic Aneurysm and Aortic Dissection\, conditions many know little about and we wish to change that! Proceeds benefit the John Ritter Research Program and related aortic research/studies.
URL:https://trinitytrailsfw.com/event/run-for-aortic-health-2/
LOCATION:Trinity Park\, 2401 University Dr.\, Fort Worth\, TX\, 76107
CATEGORIES:Trinity Trails
ATTACH;FMTTYPE=image/png:https://trinitytrailsfw.com/wp-content/uploads/2022/08/run-logo-w-website.png
END:VEVENT
END:VCALENDAR